BEGIN:VCALENDAR
VERSION:2.0
PRODID:-//Athénée Royal Air Pur - ECPv6.15.20//NONSGML v1.0//EN
CALSCALE:GREGORIAN
METHOD:PUBLISH
X-ORIGINAL-URL:https://www.araps.be
X-WR-CALDESC:Évènements pour Athénée Royal Air Pur
REFRESH-INTERVAL;VALUE=DURATION:PT1H
X-Robots-Tag:noindex
X-PUBLISHED-TTL:PT1H
BEGIN:VTIMEZONE
TZID:Europe/Paris
BEGIN:DAYLIGHT
TZOFFSETFROM:+0100
TZOFFSETTO:+0200
TZNAME:CEST
DTSTART:20240331T010000
END:DAYLIGHT
BEGIN:STANDARD
TZOFFSETFROM:+0200
TZOFFSETTO:+0100
TZNAME:CET
DTSTART:20241027T010000
END:STANDARD
BEGIN:DAYLIGHT
TZOFFSETFROM:+0100
TZOFFSETTO:+0200
TZNAME:CEST
DTSTART:20250330T010000
END:DAYLIGHT
BEGIN:STANDARD
TZOFFSETFROM:+0200
TZOFFSETTO:+0100
TZNAME:CET
DTSTART:20251026T010000
END:STANDARD
BEGIN:DAYLIGHT
TZOFFSETFROM:+0100
TZOFFSETTO:+0200
TZNAME:CEST
DTSTART:20260329T010000
END:DAYLIGHT
BEGIN:STANDARD
TZOFFSETFROM:+0200
TZOFFSETTO:+0100
TZNAME:CET
DTSTART:20261025T010000
END:STANDARD
END:VTIMEZONE
BEGIN:VEVENT
DTSTART;TZID=Europe/Paris:20250702T133000
DTEND;TZID=Europe/Paris:20250702T143000
DTSTAMP:20260419T233819
CREATED:20250702T090530Z
LAST-MODIFIED:20250707T114129Z
UID:48563-1751463000-1751466600@www.araps.be
SUMMARY:Remise des bulletins
DESCRIPTION:Remise des Bulletins de 13h30 à 14h30 pour toutes les années.
URL:https://www.araps.be/event/remise-des-bulletins/
CATEGORIES:Secondaire
ATTACH;FMTTYPE=image/png:https://www.araps.be/wp-content/uploads/2025/07/1668625267_96942c1c485f65a8d3f77e6c69863619-800x800-1.png
END:VEVENT
BEGIN:VEVENT
DTSTART;TZID=Europe/Paris:20250702T143000
DTEND;TZID=Europe/Paris:20250702T153000
DTSTAMP:20260419T233819
CREATED:20250702T091716Z
LAST-MODIFIED:20250707T114123Z
UID:48572-1751466600-1751470200@www.araps.be
SUMMARY:Rencontre élèves-professeurs
DESCRIPTION:Rencontre élèves-professeurs de 14h30 à 15h30 pour toutes les années.
URL:https://www.araps.be/event/rencontre-eleves-professeurs/
CATEGORIES:Secondaire
ATTACH;FMTTYPE=image/jpeg:https://www.araps.be/wp-content/uploads/2025/07/photo1.jpg
END:VEVENT
BEGIN:VEVENT
DTSTART;TZID=Europe/Paris:20250702T153000
DTEND;TZID=Europe/Paris:20250702T180000
DTSTAMP:20260419T233819
CREATED:20250702T091256Z
LAST-MODIFIED:20250707T114117Z
UID:48569-1751470200-1751479200@www.araps.be
SUMMARY:Rencontre parents-professeurs
DESCRIPTION:Rencontre parents-professeurs sans rendez-vous de 15h30 à 18h
URL:https://www.araps.be/event/rencontre-parents-professeurs/
CATEGORIES:Secondaire
ATTACH;FMTTYPE=image/jpeg:https://www.araps.be/wp-content/uploads/2025/07/enseignants-parents-reunion.jpg
END:VEVENT
BEGIN:VEVENT
DTSTART;TZID=Europe/Paris:20250702T190000
DTEND;TZID=Europe/Paris:20250702T210000
DTSTAMP:20260419T233819
CREATED:20250702T090823Z
LAST-MODIFIED:20250707T114111Z
UID:48566-1751482800-1751490000@www.araps.be
SUMMARY:Proclamation des Rhétos
DESCRIPTION:Proclamation des Rhétos sous le chapiteau
URL:https://www.araps.be/event/proclamation-des-rhetos/
CATEGORIES:Secondaire
ATTACH;FMTTYPE=image/jpeg:https://www.araps.be/wp-content/uploads/2025/07/B9727519913Z.1_20210628214416_000GECIEAUI4.2-0.jpg
END:VEVENT
END:VCALENDAR